BEGIN:VCALENDAR
PRODID:-//AT Content Types//AT Event//EN
VERSION:1.0
BEGIN:VEVENT
DTSTART:20110207T180000Z
DTEND:20110207T200000Z
DCREATED:20110202T183222Z
UID:ATEvent-b92cc0885a24565ce21531320cf42084
SEQUENCE:0
LAST-MODIFIED:20110202T183222Z
SUMMARY:Wikitrans kaj la historio de la Ĝardenoj de Tivoli
DESCRIPTION:Kio estas la valoro de maŝintradukado por esperantistoj? 
 Ĉu tiu 'senlaborigos'nin?
LOCATION:Tomgårdsvej 35\, 2400 Kopenhago NV
PRIORITY:3
TRANSP:0
END:VEVENT
END:VCALENDAR
