BEGIN:VCALENDAR
PRODID:-//AT Content Types//AT Event//EN
VERSION:2.0
METHOD:PUBLISH
BEGIN:VEVENT
DTSTAMP:20260423T012342Z
CREATED:20100331T051510Z
UID:ATEvent-008b04577e27d8fbc7998fb30bbd18fe
LAST-MODIFIED:20100331T051744Z
SUMMARY:Vikipedia seminario
DTSTART:20101002T110000Z
DTEND:20101003T000000Z
DESCRIPTION:Sveda Esperanto-Instituto invitas al Vikipediaj tagoj en G
 otenburgo por interesatoj de ĝenerala klereco\:\nni kune kreos novajn
  esperantajn artikolojn de Vikipedio.
LOCATION:Göteborgs stadsbibliotek
CONTACT:Inga Johansson\, sat_sverige@yahoo.se
URL:esperantoinstituto.se
CLASS:PUBLIC
END:VEVENT
END:VCALENDAR
