BEGIN:VCALENDAR
PRODID:-//AT Content Types//AT Event//EN
VERSION:1.0
BEGIN:VEVENT
DTSTART:20110131T180000Z
DTEND:20110131T200000Z
DCREATED:20110126T094933Z
UID:ATEvent-12adad10072c01dce5d15162552ef572
SEQUENCE:0
LAST-MODIFIED:20110126T094933Z
SUMMARY:Studvespero
DESCRIPTION:Pri la novelo 'Tri Ruĝaj knabinoj
LOCATION:Tomsgårdsvej 35\, 2400 København NV.
PRIORITY:3
TRANSP:0
END:VEVENT
END:VCALENDAR
