BEGIN:VCALENDAR
PRODID:-//AT Content Types//AT Event//EN
VERSION:2.0
METHOD:PUBLISH
BEGIN:VEVENT
DTSTAMP:20260423T012252Z
CREATED:20100930T155047Z
UID:ATEvent-a5fd4299fbd44a842120a5d54ca92941
LAST-MODIFIED:20100930T155047Z
SUMMARY:Studgrupo
DTSTART:20101004T190000Z
DTEND:20101004T210000Z
DESCRIPTION:La ĉimonata studvespero.
LOCATION:Tomgårdsvej 35\, 2400 Kopenhago NV
CATEGORIES:KEK arangxo.
CONTACT:Betty Chatterjee\, +45 38891013\, chatterjeebetty@hotmail.com
URL:www.esperanto.dk
CLASS:PUBLIC
END:VEVENT
END:VCALENDAR
