BEGIN:VCALENDAR
PRODID:-//AT Content Types//AT Event//EN
VERSION:2.0
METHOD:PUBLISH
BEGIN:VEVENT
DTSTAMP:20260423T025106Z
CREATED:20110323T065701Z
UID:ATEvent-663462fc7556b7f98bee70419b7118c2
LAST-MODIFIED:20110323T065701Z
SUMMARY:Studgrupo
DTSTART:20110328T170000Z
DTEND:20110328T190000Z
DESCRIPTION:Pri la novelaro Marvirinstrato de Tim Westover.
LOCATION:Tomgårdsvej 35\, 2400 København NV
CONTACT:Betty Chatterjee\, +45 38 89 10 13\, chatterjeebetty@hotmail.com
URL:www.esperanto.dk
CLASS:PUBLIC
END:VEVENT
END:VCALENDAR
