BEGIN:VCALENDAR
PRODID:-//AT Content Types//AT Event//EN
VERSION:2.0
METHOD:PUBLISH
BEGIN:VEVENT
DTSTAMP:20260423T042318Z
CREATED:20101116T123201Z
UID:ATEvent-1835d78f7c83bc618f8c02ec4a888598
LAST-MODIFIED:20101116T123201Z
SUMMARY:Studgrupa Vespero\: Marvirinstrato.
DTSTART:20101122T190000Z
DTEND:20101122T210000Z
DESCRIPTION:La studgrupo daŭrigos la legadon de Marvirinstrato de Tim
  Westover.
LOCATION:Tomgårdsvej 35\, 2400 Kopenhago NV
CONTACT:Betty Chatterjee\, +45 38891013\, chatterjeebetty@hotmail.com
URL:www.esperanto.dk
CLASS:PUBLIC
END:VEVENT
END:VCALENDAR
