BEGIN:VCALENDAR
PRODID:-//AT Content Types//AT Event//EN
VERSION:1.0
BEGIN:VEVENT
DTSTART:20110620T150000Z
DTEND:20110620T190000Z
DCREATED:20110603T113159Z
UID:ATEvent-b710bb732c5ca826dbb5f2e4297f2989
SEQUENCE:0
LAST-MODIFIED:20110603T113159Z
SUMMARY:Somera Ekskurso al Kristianio.
DESCRIPTION:Dum la lasta klubvespero ni ekskursas. Bonvenon ekskursi k
 un ni al Kristianio lundon la 20-an de junio. Ni renkontiĝu je la 17-
 a  ĉe  la metro-staciodomo de Christianshavn. Nia  sperta ĉiĉeronin
 o estos Di/Rut Jesus\, kiu mem loĝas en la kvartalo de Kristianio.\n\
 nPost la alveno al Kristianio ni unue manĝos vegetarane kaj post kiam
  Di montros al ni la kvartolon.\n\n\n  La sola vegetara restaŭracio f
 unkciante lunde estas ''Grøntsagen''\, kiu troviĝas fine de Pusher S
 treet\, apud Nemoland..... bone estos\, ke ni havos spertan ĉiĉeroni
 non. Tie oni povas manĝi bonan vegetaran manĝon kontraŭ 65 kronoj i
 nter 17.30 – 19 horoj. Sed ni estos pli ol 10 manĝontoj ni devos an
 taŭe informi la kuiriston. Do ni bezonas scii kiom da personoj volus 
 partopreni la aranĝon.\n\n\n Bonvolu aliĝi la ekskurson antaŭ la 16
 -a de junio. Aliĝu retpoŝte chatterjeebetty@hotmail.com aŭ telefone
  38 89 10 13.
LOCATION:Kristianio
PRIORITY:3
TRANSP:0
END:VEVENT
END:VCALENDAR
