BEGIN:VCALENDAR
PRODID:-//AT Content Types//AT Event//EN
VERSION:2.0
METHOD:PUBLISH
BEGIN:VEVENT
DTSTAMP:20260423T060604Z
CREATED:20080831T060728Z
UID:ATEvent-3a8edba51c74a0d888dda15c9657275b
LAST-MODIFIED:20080831T061730Z
SUMMARY:Seminario dum ESF2008
DTSTART:20080920T093000Z
DTEND:20080920T110000Z
DESCRIPTION:Interkultura dialogo egalkondiĉe tutmonde
LOCATION:Folkets Hus\, sal 7\, Olof Palmes plats 1\, Malmö
CONTACT:Sten Svenonius
CLASS:PUBLIC
END:VEVENT
END:VCALENDAR
