BEGIN:VCALENDAR
PRODID:-//AT Content Types//AT Event//EN
VERSION:2.0
METHOD:PUBLISH
BEGIN:VEVENT
DTSTAMP:20260423T012459Z
CREATED:20110316T102646Z
UID:ATEvent-214172c6a04577f5e9492eecbf05ad63
LAST-MODIFIED:20110316T102646Z
SUMMARY:SEA-renkontiĝo
DTSTART:20110319T120000Z
DTEND:20110319T153000Z
DESCRIPTION:SEA-renkontiĝo en Lund
LOCATION:Krafts torg 12 A\, Lund
CATEGORIES:SEA-kunsido
CLASS:PUBLIC
END:VEVENT
END:VCALENDAR
