BEGIN:VCALENDAR
PRODID:-//AT Content Types//AT Event//EN
VERSION:1.0
BEGIN:VEVENT
DTSTART:20101023T120000Z
DTEND:20101023T160000Z
DCREATED:20101002T084846Z
UID:ATEvent-21f60970aab8fd1c3fa007c5de818ac9
SEQUENCE:0
LAST-MODIFIED:20101002T084846Z
SUMMARY:SEA Kunsido.
DESCRIPTION:Tagordo por la dua plankunsido de SEA en la jaro 2010.
LOCATION:Tomgårdsvej 35\, 2400 Kopenhago NV
PRIORITY:3
TRANSP:0
END:VEVENT
END:VCALENDAR
