BEGIN:VCALENDAR
PRODID:-//AT Content Types//AT Event//EN
VERSION:1.0
BEGIN:VEVENT
DTSTART:20101011T190000Z
DTEND:20101011T210000Z
DCREATED:20101005T071241Z
UID:ATEvent-909b271eeae468885df183f702064c6e
SEQUENCE:0
LAST-MODIFIED:20101005T071241Z
SUMMARY:Rolo-luda Vespero
DESCRIPTION:Alt povos okazi!
LOCATION:Tomgårdsvej 35\, 2400 Kopenhago NV
PRIORITY:3
TRANSP:0
END:VEVENT
END:VCALENDAR
