BEGIN:VCALENDAR
PRODID:-//AT Content Types//AT Event//EN
VERSION:2.0
METHOD:PUBLISH
BEGIN:VEVENT
DTSTAMP:20260423T044016Z
CREATED:20100806T181641Z
UID:ATEvent-6787c7a3be7a698fb0636bd14d1bd7fa
LAST-MODIFIED:20100806T181727Z
SUMMARY:Raporto pri la kuba kongreso kaj pripensoj pri la kopenhaga kongreso 2011.
DTSTART:20100809T190000Z
DTEND:20100809T210000Z
LOCATION:Tomgårdsvej 35\, 2400 Kopenhago NV
CONTACT:Betty Chatterjee\, +45 38891013\, chatterjeebetty@hotmail.com
URL:www.esperanto.dk
CLASS:PUBLIC
END:VEVENT
END:VCALENDAR
