BEGIN:VCALENDAR
PRODID:-//AT Content Types//AT Event//EN
VERSION:2.0
METHOD:PUBLISH
BEGIN:VEVENT
DTSTAMP:20260423T025809Z
CREATED:20110329T182525Z
UID:ATEvent-78caaba046e2a24415d79498d8f17775
LAST-MODIFIED:20110329T182525Z
SUMMARY:Printempa festo – varfest en Malmö
DTSTART:20110416T140000Z
DTEND:20110416T190000Z
LOCATION:Kronetorpsg 94\, SE - 212 27 MALMÖ
CATEGORIES:Esperantista Klubo, MALMÖ
CONTACT:Per-Olov Johansson\, 040-26 31 94
CLASS:PUBLIC
END:VEVENT
END:VCALENDAR
