BEGIN:VCALENDAR
PRODID:-//AT Content Types//AT Event//EN
VERSION:2.0
METHOD:PUBLISH
BEGIN:VEVENT
DTSTAMP:20260423T012515Z
CREATED:20100319T131207Z
UID:ATEvent-fa2e58769df2115360192e74ab0ffecd
LAST-MODIFIED:20100319T131207Z
SUMMARY:Printempa festo 17/4
DTSTART:20100417T160000Z
DTEND:20100417T190000Z
DESCRIPTION:El la programo\: ISRAELO\nPri siaj impresoj de la Lando de
  la Biblio rakontos Lisbet kaj Bertil Andreasson. Ili kunportos intere
 sajn kaj belajn bildojn.
LOCATION:Klubo Esperantista de Malmö
CONTACT:Per-Olov Johansson\, 040-263194
CLASS:PUBLIC
END:VEVENT
END:VCALENDAR
