BEGIN:VCALENDAR
PRODID:-//AT Content Types//AT Event//EN
VERSION:2.0
METHOD:PUBLISH
BEGIN:VEVENT
DTSTAMP:20260423T055030Z
CREATED:20080920T094437Z
UID:ATEvent-36f6079d54a6c9ef986969e8c4d25538
LAST-MODIFIED:20080923T045604Z
SUMMARY:Pri "La Junulara Domo" ĉe EKG
DTSTART:20080925T193000Z
DTEND:20080925T203000Z
DESCRIPTION:Pri "La Junulara Domo" ĉe la kulturgrupo en Danasvej 30B\
 , 2-a etaĝo.
LOCATION:Danasvej 30B
CLASS:PUBLIC
END:VEVENT
END:VCALENDAR
