BEGIN:VCALENDAR
PRODID:-//AT Content Types//AT Event//EN
VERSION:2.0
METHOD:PUBLISH
BEGIN:VEVENT
DTSTAMP:20260423T012431Z
CREATED:20101026T114851Z
UID:ATEvent-6f629a4891ccaf5d2bf5246c46751c23
LAST-MODIFIED:20101026T114851Z
SUMMARY:Prelego pri Oomoto
DTSTART:20101101T190000Z
DTEND:20101101T210000Z
DESCRIPTION:Mathias Dalmose prelegos pri sia vojaĝo al Japanio kaj la
  travivaĵoj ĉe Oomoto.
LOCATION:Tomgårdsvej 35\, 2400 Kopenhago NV
CATEGORIES:KEK arangxo.
CONTACT:Betty Chatterjee\, +45 38891013\, chatterjeebetty@hotmail.com
URL:www.esperanto.dk
CLASS:PUBLIC
END:VEVENT
END:VCALENDAR
