BEGIN:VCALENDAR
PRODID:-//AT Content Types//AT Event//EN
VERSION:2.0
METHOD:PUBLISH
BEGIN:VEVENT
DTSTAMP:20260423T012456Z
CREATED:20110304T185406Z
UID:ATEvent-e2894ae88184cf1df78cd7edcca863e8
LAST-MODIFIED:20110304T185406Z
SUMMARY:Prelego pri literaturo.
DTSTART:20110307T180000Z
DTEND:20110307T200000Z
DESCRIPTION:Eliza Kehlet prelegos pri siaj plej ŝatataj libroj.
LOCATION:Tomgårdsvej 35\, 2400 København NV
CATEGORIES:KEK arangxo.
CONTACT:Betty Chatterjee\, +45 38891013\, chatterjeebetty@hotmail.com
URL:www.esperanto.dk
CLASS:PUBLIC
END:VEVENT
END:VCALENDAR
