BEGIN:VCALENDAR
PRODID:-//AT Content Types//AT Event//EN
VERSION:2.0
METHOD:PUBLISH
BEGIN:VEVENT
DTSTAMP:20260423T013219Z
CREATED:20110329T181048Z
UID:ATEvent-1c2cc29126343fcaccbd603356dc9d51
LAST-MODIFIED:20110329T181048Z
SUMMARY:Prelego pri la historio de la dana Biciklanta Asocio.
DTSTART:20110404T170000Z
DTEND:20110404T190000Z
DESCRIPTION:La biciklado estas grava en Danio.....
LOCATION:Tomgårdsvej 35\, 2400 København NV
CATEGORIES:KEK arangxo.
CONTACT:Betty Chatterjee\, +45 38 89 10 13\, chatterjeebetty@hotmail.com
URL:www.esperanto.dk
CLASS:PUBLIC
END:VEVENT
END:VCALENDAR
