BEGIN:VCALENDAR
PRODID:-//AT Content Types//AT Event//EN
VERSION:1.0
BEGIN:VEVENT
DTSTART:20110110T180000Z
DTEND:20110110T200000Z
DCREATED:20110104T145843Z
UID:ATEvent-736d04cf69fd30b0a09bbfd2dd1ad7b0
SEQUENCE:0
LAST-MODIFIED:20110104T145843Z
SUMMARY:Prelego pri la 27-a IFO okazinte en Nördlingen\, Germanio
DESCRIPTION:Foto-prelego pri vigla novjararangho en Germanio.
LOCATION:Tomgårdsvej 35\, 2400 Kopenhago NV
PRIORITY:3
TRANSP:0
END:VEVENT
END:VCALENDAR
