BEGIN:VCALENDAR
PRODID:-//AT Content Types//AT Event//EN
VERSION:1.0
BEGIN:VEVENT
DTSTART:20100607T193000Z
DTEND:20100607T210000Z
DCREATED:20100602T153222Z
UID:ATEvent-3c4cfb7e050bec9a8ad7a7a2cef2a9bc
SEQUENCE:0
LAST-MODIFIED:20100602T153222Z
SUMMARY:Prelego pri Irlando.
DESCRIPTION:Priskribo de vojaĝo tra Irlando.
LOCATION:Tomsgårdsvej 35\, 2400 København.NV
PRIORITY:3
TRANSP:0
END:VEVENT
END:VCALENDAR
