BEGIN:VCALENDAR
PRODID:-//AT Content Types//AT Event//EN
VERSION:2.0
METHOD:PUBLISH
BEGIN:VEVENT
DTSTAMP:20260423T012431Z
CREATED:20110403T171806Z
UID:ATEvent-b46a3f7c2647079232e193d3537984a0
LAST-MODIFIED:20110403T171806Z
SUMMARY:Prelego pri Hongkongo
DTSTART:20110414T163000Z
DTEND:20110414T183000Z
DESCRIPTION:Lunds Esperantoklubb invitas al sia klubkunveno\, jhaude l
 a 14-an de aprilo je la 18.30-a horo en la kunvenejo de Sensus che Kra
 ffts Torg en Lund. \nAnn-Louise rakontas pri Hongkongo kaj montras bil
 dojn de sia vizito tie.\nChiuj estos bonvenaj.
LOCATION:Sensus Kraffts Torg 12\, Lund
CONTACT:Allan Ljungstedt\, 040-48 20 34\, allan.lj@gmail.com
CLASS:PUBLIC
END:VEVENT
END:VCALENDAR
