BEGIN:VCALENDAR
PRODID:-//AT Content Types//AT Event//EN
VERSION:1.0
BEGIN:VEVENT
DTSTART:20100614T193000Z
DTEND:20100614T210000Z
DCREATED:20100602T153640Z
UID:ATEvent-be5cf6edcadd860afa1b76306adcf18f
SEQUENCE:0
LAST-MODIFIED:20100602T153640Z
SUMMARY:Prelego pri August Krogh
DESCRIPTION:Prelego okaze de la 160-a jaro de la naturscienca Fakultat
 o de la Kopenhaga Universitato.
LOCATION:Tomsgårdsvej 35\, 2400 København.NV
PRIORITY:3
TRANSP:0
END:VEVENT
END:VCALENDAR
