BEGIN:VCALENDAR
PRODID:-//AT Content Types//AT Event//EN
VERSION:1.0
BEGIN:VEVENT
DTSTART:20101025T190000Z
DTEND:20101025T210000Z
DCREATED:20101020T042053Z
UID:ATEvent-190bb957bdf50ab0d33ed4fb3b252227
SEQUENCE:0
LAST-MODIFIED:20101020T042053Z
SUMMARY:Prelegeto pri la Esperanto-domo kaj aukcio. (Programa shangho)
DESCRIPTION:Gravas la Esperanto-doma fonduso.
LOCATION:Tomgårdsvej 35\, 2400 Kopenhago NV
PRIORITY:3
TRANSP:0
END:VEVENT
END:VCALENDAR
