BEGIN:VCALENDAR
PRODID:-//AT Content Types//AT Event//EN
VERSION:2.0
METHOD:PUBLISH
BEGIN:VEVENT
DTSTAMP:20260423T025121Z
CREATED:20110323T064632Z
UID:ATEvent-89d42906e59bd781184edf70e001853c
LAST-MODIFIED:20110323T064632Z
SUMMARY:Por legemuloj!
DTSTART:20110330T163000Z
DTEND:20110330T190000Z
DESCRIPTION:Pri libroj legitaj.
LOCATION:Kronetorpsg 94\, SE - 212 27 MALMÖ
CATEGORIES:Esperantista Klubo, MALMÖ
CONTACT:Sten Svenonius\, 040-19 14 77\, sten@agado.net
CLASS:PUBLIC
END:VEVENT
END:VCALENDAR
