BEGIN:VCALENDAR
PRODID:-//AT Content Types//AT Event//EN
VERSION:1.0
BEGIN:VEVENT
DTSTART:20081112T183000Z
DTEND:20081112T203000Z
DCREATED:20081111T064025Z
UID:ATEvent-180dab32d582826f727151743d1911a1
SEQUENCE:0
LAST-MODIFIED:20081111T064025Z
SUMMARY:Ordinara kunsido de KEM
DESCRIPTION:Ordinara kunsido kun diskutoj kaj decidoj pri la printempa
 j kursoj\, programoj\, gazetabonoj kaj eventualaj elektoj.\nC'iuj bonv
 enaj!\nLa prezidanto
LOCATION:Kronetorpsgatan 94\, Malmö
PRIORITY:3
TRANSP:0
END:VEVENT
END:VCALENDAR
