BEGIN:VCALENDAR
PRODID:-//AT Content Types//AT Event//EN
VERSION:1.0
BEGIN:VEVENT
DTSTART:20100823T190000Z
DTEND:20100823T210000Z
DCREATED:20100817T081306Z
UID:ATEvent-c7790d2c79f28e6cd84e9a158e3edcb9
SEQUENCE:0
LAST-MODIFIED:20100817T081306Z
SUMMARY:Membraj recenzoj pri legendaj libroj
DESCRIPTION:Venu sciigi nin pri leginda aŭ legenda libro.
LOCATION:Tomgårdsvej 35\, 2400 Kopenhago NV
PRIORITY:3
TRANSP:0
END:VEVENT
END:VCALENDAR
