BEGIN:VCALENDAR
PRODID:-//AT Content Types//AT Event//EN
VERSION:2.0
METHOD:PUBLISH
BEGIN:VEVENT
DTSTAMP:20260423T012600Z
CREATED:20101103T092719Z
UID:ATEvent-1bf2351d6b4d2e2a1c725594f6d87d93
LAST-MODIFIED:20101103T092719Z
SUMMARY:La Zamenhofa Festo 2010
DTSTART:20101212T130000Z
DTEND:20101212T170000Z
DESCRIPTION:Ni festenu la 151-an naskightagdatrevenon de L.L.Zamenhof.
  Koregan bonvenon!
LOCATION:Tomgårdsvej 35\, 2400 Kopenhago NV
CATEGORIES:KEK arangxo.
CONTACT:Betty Chatterjee\, +\, chatterjeebetty@hotmail.com
URL:www.esperanto.dk
CLASS:PUBLIC
END:VEVENT
END:VCALENDAR
