BEGIN:VCALENDAR
PRODID:-//AT Content Types//AT Event//EN
VERSION:1.0
BEGIN:VEVENT
DTSTART:20090202T193000Z
DTEND:20090202T210000Z
DCREATED:20090131T041638Z
UID:ATEvent-6846bfe969d9510a835af5059b24b78a
SEQUENCE:0
LAST-MODIFIED:20090201T062632Z
SUMMARY:La Teamo de K.E.F. informos nin pri la festivalo.
DESCRIPTION:La teamo de KEF informos nin pri la ĉijara festivalo okaz
 onte en Elsinoro\, Danio.
LOCATION:Tomsgårdsvej 35\, 2400 København K
PRIORITY:3
TRANSP:0
END:VEVENT
END:VCALENDAR
