BEGIN:VCALENDAR
PRODID:-//AT Content Types//AT Event//EN
VERSION:1.0
BEGIN:VEVENT
DTSTART:20110523T170000Z
DTEND:20110523T190000Z
DCREATED:20110519T062506Z
UID:ATEvent-4e51c25eea19c047bdeedc9f4721b46a
SEQUENCE:0
LAST-MODIFIED:20110519T062506Z
SUMMARY:La lasta konversacia vespero de la sezono.
DESCRIPTION:Pri la 96-a Universala kongreso en Kopenhago. \n\nJen la l
 asta konversacia vespero de la printempa sezono. Tial la memevidenta t
 emo de la konversacia vespero estos pri la 96-a Universala Kongreso en
  Kopenhago. Lau la plej nova statistiko\:’ Al UK-2011 aliĝis 1324 p
 ersonoj el 67 landoj’ al la kongreso. Feliĉe La nombro konstante kr
 eskiĝas\, kaj certe malgraŭ la granda defio ni ĉiuj antauĝojas bon
 venigi samideanojn niajn al Danio.\n\n\n\nBonvenon al agademuloj\, kiu
 j volus demandi\, pridiskuti pri la baldaŭe okazonta kongreso kaj pro
 poni al la LKK-o helpon. Ileana Schrøder kaj aliaj LKK-anoj partopren
 os la kunvenon.
LOCATION:Tomgårdsvej 35\, 2400 København NV
PRIORITY:3
TRANSP:0
END:VEVENT
END:VCALENDAR
