BEGIN:VCALENDAR
PRODID:-//AT Content Types//AT Event//EN
VERSION:1.0
BEGIN:VEVENT
DTSTART:20100828T120000Z
DTEND:20100828T180000Z
DCREATED:20100817T082001Z
UID:ATEvent-8970c959c502029ba597aa4746f6ae28
SEQUENCE:0
LAST-MODIFIED:20100817T082001Z
SUMMARY:La Kopenhaga internacia tago.
DESCRIPTION:La Kopenhaga internacia tago. La KEK-a budo situos ie en l
 a kvartalo  Sortedams Dossering -  Fælledvej.
LOCATION:Kopenhago\; Sortedams Dossering - Fælledvej
PRIORITY:3
TRANSP:0
END:VEVENT
END:VCALENDAR
