BEGIN:VCALENDAR
PRODID:-//AT Content Types//AT Event//EN
VERSION:2.0
METHOD:PUBLISH
BEGIN:VEVENT
DTSTAMP:20260423T013559Z
CREATED:20100903T062848Z
UID:ATEvent-cadf89fbe31f3d182e64cfb6ebe6d8f9
LAST-MODIFIED:20100903T062848Z
SUMMARY:La kongresaj paroladoj de Ludoviko Zamenhof.
DTSTART:20100906T190000Z
DTEND:20100906T210000Z
DESCRIPTION:Ole Therkelsen prelegos pri la kongresaj paroladoj de Ludo
 viko Zamenhof.
LOCATION:Tomgårdsvej 35\, 2400 Kopenhago NV
CATEGORIES:KEK arangxo.
CONTACT:Betty Chatterjee\, +45 38891013\, chatterjeebetty@hotmail.com
URL:www.esperanto.dk
CLASS:PUBLIC
END:VEVENT
END:VCALENDAR
