BEGIN:VCALENDAR
PRODID:-//AT Content Types//AT Event//EN
VERSION:2.0
METHOD:PUBLISH
BEGIN:VEVENT
DTSTAMP:20260423T012641Z
CREATED:20110603T113659Z
UID:ATEvent-ec61f66883e76698274407aeb52cbfb0
LAST-MODIFIED:20110603T113659Z
SUMMARY:La arto de marioneta teatro.
DTSTART:20110606T170000Z
DTEND:20110606T190000Z
DESCRIPTION:Kamma kaj Finn rakontos al ni pri la arto fari marionetan 
 teatron.
LOCATION:Tomgårdsvej 35\, 2400 København NV
CATEGORIES:KEK arangxo.
CONTACT:Betty Chatterjee\, +45 38 89 10 13
URL:www.esperanto.dk
CLASS:PUBLIC
END:VEVENT
END:VCALENDAR
