BEGIN:VCALENDAR
PRODID:-//AT Content Types//AT Event//EN
VERSION:2.0
METHOD:PUBLISH
BEGIN:VEVENT
DTSTAMP:20260423T012520Z
CREATED:20110426T092204Z
UID:ATEvent-b04e45eb020ad78d3e2d32954d6d5632
LAST-MODIFIED:20110426T092204Z
SUMMARY:La 44-a ILEI konferenco.
DTSTART:20110717T130000Z
DTEND:20110723T200000Z
DESCRIPTION:Ne forgesu aliĝu al la 44-a Konferenco de ILEI\, 17-23 ju
 lio 2011\,Kopenhago. La unua aliĝperiodo\, kun la malplej altaj kotiz
 oj\, estas plilongigita ĝis la 30-a de aprilo. Ĝis la sama dato eblo
 s mendi loĝadon en la hotelo kaj en la studenta domo kiujn ILEI rezer
 vis por\nla konferencanoj. Legu pli cxe\nhttp\://www.ilei.info//agado/
 Kopenhago2011.php \,\nkaj uzu la retan aliĝilon\nhttp\://ilei.info/k
 onferenco/alighilo2011.php
LOCATION:Departamento pri Komunikiloj\, Kognado kaj Komunikado (http\://mcc.ku.dk/)
CATEGORIES:Internacia Aranĝo
CONTACT:Betty Chatterjee\, +45 38 89 10 13\, chatterjeebetty@hotmail.com
CLASS:PUBLIC
END:VEVENT
END:VCALENDAR
