BEGIN:VCALENDAR
PRODID:-//AT Content Types//AT Event//EN
VERSION:2.0
METHOD:PUBLISH
BEGIN:VEVENT
DTSTAMP:20260423T041920Z
CREATED:20101110T171433Z
UID:ATEvent-78ad105d6a6068a89f5e86a73f298020
LAST-MODIFIED:20101110T171433Z
SUMMARY:Kvizo
DTSTART:20101115T190000Z
DTEND:20101115T210000Z
DESCRIPTION:Kvizo-vespero pri Esperanto.
LOCATION:Tomgårdsvej 35\, 2400 Kopenhago NV
CONTACT:Betty Chatterjee\, +45 38891013\, chatterjeebetty@hotmail.com
URL:www.esperanto.dk
CLASS:PUBLIC
END:VEVENT
END:VCALENDAR
