BEGIN:VCALENDAR
PRODID:-//AT Content Types//AT Event//EN
VERSION:2.0
METHOD:PUBLISH
BEGIN:VEVENT
DTSTAMP:20260423T012423Z
CREATED:20090420T115123Z
UID:ATEvent-765d3e5997bd53d4cdc93bb47786d678
LAST-MODIFIED:20090420T115123Z
SUMMARY:Kurso de esperanto 26/4
DTSTART:20090426T130000Z
DTEND:20090426T180000Z
LOCATION:Klubo Esperantista de Malmö\, Kronetorpsgatan 94\, Malmö
CONTACT:Sten Svenonius\, sten@agado.net
CLASS:PUBLIC
END:VEVENT
END:VCALENDAR
