BEGIN:VCALENDAR
PRODID:-//AT Content Types//AT Event//EN
VERSION:2.0
METHOD:PUBLISH
BEGIN:VEVENT
DTSTAMP:20260422T235100Z
CREATED:20090910T132218Z
UID:ATEvent-f9a75e5df238eed3e2047325384f7dc9
LAST-MODIFIED:20090910T132218Z
SUMMARY:weekendkursus i HelsingÃ¸r
DTSTART:20090919T120000Z
DTEND:20090920T160000Z
DESCRIPTION:Denne sommer gÃ¦stede Kultura Esperanto Festivalo HelsingÃ
 ¸r og prÃ¦senterede en masse kunstnere der optrÃ¦der pÃ¥ det internati
 onale sprog esperanto. Mange HelsingÃ¸r borgere fik stiftet bekendskab
  med sproget og dets kultur. Nu er der mulighed for at selv prÃ¸ve at 
 lÃ¦re sproget i weekenden d. 19/20 september\, begge dage kl. 12 - 16.
  Kursuspris 100 kr for begge dage. Det foregÃ¥r pÃ¥ HelsingÃ¸r Byskole
 \, Marienlyst Alle 2\, 3000 HelsingÃ¸r - Tilmelding pÃ¥ kef9@tejo.org 
 eller 26 87 87 00
LOCATION:HelsingÃ¸r Byskole
CONTACT:kim henriksen\, +45 26 87 87 00\, kef9@tejo.org
URL:www.kef.saluton.dk
CLASS:PUBLIC
END:VEVENT
END:VCALENDAR
