BEGIN:VCALENDAR
PRODID:-//AT Content Types//AT Event//EN
VERSION:1.0
BEGIN:VEVENT
DTSTART:20110124T180000Z
DTEND:20110124T200000Z
DCREATED:20110122T113030Z
UID:ATEvent-7858d7122e2a96b4c64f52be8028ddc9
SEQUENCE:0
LAST-MODIFIED:20110122T113030Z
SUMMARY:Rolo-luda Vespero
DESCRIPTION:Per rolo-ludado la la adaptighemon oni gaje lernos.
LOCATION:Tomgårdsvej 35\, 2400 København NV
PRIORITY:3
TRANSP:0
END:VEVENT
END:VCALENDAR
