BEGIN:VCALENDAR
PRODID:-//AT Content Types//AT Event//EN
VERSION:2.0
METHOD:PUBLISH
BEGIN:VEVENT
DTSTAMP:20260422T222018Z
CREATED:20071018T185527Z
UID:ATEvent-61e7b0dfd5356a488b36ad6cfbb3c190
LAST-MODIFIED:20080817T134314Z
SUMMARY:Fortsætter-kursus
DTSTART:20080818T173000Z
DTEND:20080818T190000Z
DESCRIPTION:Fortsætter-kursus finder sted mandage kl. 17.30-19.00.\n\
 nHenvendelse til Arne\, telf.  21 40 84 87
LOCATION:Kulturhuset  København
CATEGORIES:Kurso
CONTACT:Arne (instruktør)
CLASS:PUBLIC
END:VEVENT
END:VCALENDAR
