BEGIN:VCALENDAR
PRODID:-//AT Content Types//AT Event//EN
VERSION:1.0
BEGIN:VEVENT
DTSTART:20080929T173000Z
DTEND:20080929T190000Z
DCREATED:20080817T084917Z
UID:ATEvent-114e065946cb264468b10b8ecf770fb4
SEQUENCE:0
LAST-MODIFIED:20080817T084917Z
SUMMARY:Begynder kursus
DESCRIPTION:Begynder kursus hos KEK starter i slutning af september.
LOCATION:kulturo-domo\, Dortheavej 61\, 2400 Kopenhaga NV
PRIORITY:3
TRANSP:0
END:VEVENT
END:VCALENDAR
