BEGIN:VCALENDAR
PRODID:-//AT Content Types//AT Event//EN
VERSION:1.0
BEGIN:VEVENT
DTSTART:20110314T180000Z
DTEND:20110314T200000Z
DCREATED:20110308T143341Z
UID:ATEvent-b29126cc384fa656d9b200d059b274d4
SEQUENCE:0
LAST-MODIFIED:20110308T143341Z
SUMMARY:Kopirajtoj kaj la interreto.
DESCRIPTION:Prelego
LOCATION:Tomgårdsvej 35\, 2400 København NV
PRIORITY:3
TRANSP:0
END:VEVENT
END:VCALENDAR
