BEGIN:VCALENDAR
PRODID:-//AT Content Types//AT Event//EN
VERSION:1.0
BEGIN:VEVENT
DTSTART:20110117T180000Z
DTEND:20110117T200000Z
DCREATED:20110114T085954Z
UID:ATEvent-a423ed351b5aace8f87e3e613e2e8280
SEQUENCE:0
LAST-MODIFIED:20110114T085955Z
SUMMARY:Konversacia Vespero
DESCRIPTION:Proponitaj temoj ekzamenoj kaj la enhavo de mesaĝoj okaze
  de la Internacia Virina Tago 2011.
LOCATION:Tomgårdsvej 35\, 2400 Kopenhago NV
PRIORITY:3
TRANSP:0
END:VEVENT
END:VCALENDAR
