BEGIN:VCALENDAR
PRODID:-//AT Content Types//AT Event//EN
VERSION:1.0
BEGIN:VEVENT
DTSTART:20110321T180000Z
DTEND:20110321T200000Z
DCREATED:20110316T083235Z
UID:ATEvent-241c56fb5e72511771d1bb83aa58ca43
SEQUENCE:0
LAST-MODIFIED:20110316T083235Z
SUMMARY:Konversacia Rondo
DESCRIPTION:Konversacia rondo\:‘Dialogo kaj reciproka kompreno’.Je
 n la temo de la\nĉi-jara Universala Kongreso.
LOCATION:Tomgårdsvej 35\, 2400 København NV
PRIORITY:3
TRANSP:0
END:VEVENT
END:VCALENDAR
