BEGIN:VCALENDAR
PRODID:-//AT Content Types//AT Event//EN
VERSION:2.0
METHOD:PUBLISH
BEGIN:VEVENT
DTSTAMP:20260423T012300Z
CREATED:20100825T174755Z
UID:ATEvent-6921b8a96f08829005a3dbb4da743302
LAST-MODIFIED:20100825T174755Z
SUMMARY:Komputila Vespero
DTSTART:20100830T190000Z
DTEND:20100830T210000Z
DESCRIPTION:'Por sperto kaj lerno ne sufiĉas eterno.’ (Zamenhofa pr
 overbo).\n\nPor multaj el ni komputilaj aferoj jam donas al ni novajn 
 defiojn\, plezurojn kaj ĉagrenojn.
LOCATION:Tomgårdsvej 35\, 2400 Kopenhago NV
CATEGORIES:KEK arangxo.
CONTACT:Betty Chatterjee\, +45 38891013
URL:www.esperanto.dk
CLASS:PUBLIC
END:VEVENT
END:VCALENDAR
