BEGIN:VCALENDAR
PRODID:-//AT Content Types//AT Event//EN
VERSION:1.0
BEGIN:VEVENT
DTSTART:20080922T190000Z
DTEND:20080922T210000Z
DCREATED:20080917T143400Z
UID:ATEvent-4a924fdd2ebf87572ec0f82d9e5d453f
SEQUENCE:0
LAST-MODIFIED:20080917T143400Z
SUMMARY:vigle senprograma vespero ĉe KEK! \:-)
DESCRIPTION:Lundon la 22.an de septembro estos senprograma vespero en 
 la klubo.
LOCATION:kulturo-domo\, Dortheavej 61\, 2400 Kopenhaga NV
PRIORITY:3
TRANSP:0
END:VEVENT
END:VCALENDAR
