BEGIN:VCALENDAR
PRODID:-//AT Content Types//AT Event//EN
VERSION:1.0
BEGIN:VEVENT
DTSTART:20091004T140000Z
DTEND:20091004T170000Z
DCREATED:20090925T073800Z
UID:ATEvent-a79a994cff6c809422f1d1f0fb3472f2
SEQUENCE:0
LAST-MODIFIED:20090925T073800Z
SUMMARY:Monda Promenada Tago.
DESCRIPTION:72 landoj jam okazigis la Mondan Promenadan Tagon. Ĉijare
  oni unufoje festenos la Mondan Promenan Tagon en Danio.
LOCATION:Østerbrogade\, Kopenhago
PRIORITY:3
TRANSP:0
END:VEVENT
END:VCALENDAR
