BEGIN:VCALENDAR
PRODID:-//AT Content Types//AT Event//EN
VERSION:1.0
BEGIN:VEVENT
DTSTART:20100329T193000Z
DTEND:20100329T210000Z
DCREATED:20100314T165004Z
UID:ATEvent-e0a4cfca2fdb0a1e95d14d219683fde2
SEQUENCE:0
LAST-MODIFIED:20100328T070910Z
SUMMARY:Maŝintradukado
DESCRIPTION:Pri la maŝintradukado.
LOCATION:Tomsgårdsvej 35\, 2400 København.NV
PRIORITY:3
TRANSP:0
END:VEVENT
END:VCALENDAR
