BEGIN:VCALENDAR
PRODID:-//AT Content Types//AT Event//EN
VERSION:2.0
METHOD:PUBLISH
BEGIN:VEVENT
DTSTAMP:20260423T030150Z
CREATED:20100314T164347Z
UID:ATEvent-78ab563479170ee6b7c4c2e7cd073e41
LAST-MODIFIED:20100314T164347Z
SUMMARY:La Instruado de Fremdaj lingvoj
DTSTART:20100322T193000Z
DTEND:20100322T210000Z
DESCRIPTION:Pri la historio de instrumetodoj de fremdaj lingvoj.
LOCATION:Tomsgårdsvej 35\, 2400 København.NV
CATEGORIES:KEK arangxo.
CONTACT:Betty Chatterjee\, +45 38 89 10 13\, chatterjeebetty@hotmail.com
URL:www.esperanto.dk
CLASS:PUBLIC
END:VEVENT
END:VCALENDAR
