BEGIN:VCALENDAR
PRODID:-//AT Content Types//AT Event//EN
VERSION:2.0
METHOD:PUBLISH
BEGIN:VEVENT
DTSTAMP:20260422T235809Z
CREATED:20100430T055501Z
UID:ATEvent-a843cae3da0897cb7fa9006ce31ebd88
LAST-MODIFIED:20100430T055501Z
SUMMARY:Faktoj kaj Fantazioj pri Islamo.
DTSTART:20100503T193000Z
DTEND:20100503T210000Z
DESCRIPTION:Amir Hadžiahmetović prelegos pri la ‘Faktoj kaj fantaz
 ioj pri Islamo’.
LOCATION:Tomsgårdsvej 35\, 2400 København.NV
CATEGORIES:KEK arangxo.
CONTACT:Betty Chatterjee\, +45 38 89 10 13\, chatterjeebetty@hotmail.com
URL:www.esperanto.dk
CLASS:PUBLIC
END:VEVENT
END:VCALENDAR
