BEGIN:VCALENDAR
PRODID:-//AT Content Types//AT Event//EN
VERSION:1.0
BEGIN:VEVENT
DTSTART:20091212T190000Z
DTEND:20091212T223000Z
DCREATED:20091115T172020Z
UID:ATEvent-1c28125eea391f9cc645447a048f68fa
SEQUENCE:0
LAST-MODIFIED:20091115T173357Z
SUMMARY:Zamenhof-festvespero-en-EKG
DESCRIPTION:Invito al speciala Zamenhof-festvespero en la Esperanto-Ku
 lturgrupo\, EKG\nsabaton\, 12.12. 19-00-22.30 - Danasvej 30B\, 2-a eta
 ĝo.
LOCATION:Danasvej 30B\, Frederiksberg
PRIORITY:3
TRANSP:0
END:VEVENT
END:VCALENDAR
