BEGIN:VCALENDAR
PRODID:-//AT Content Types//AT Event//EN
VERSION:2.0
METHOD:PUBLISH
BEGIN:VEVENT
DTSTAMP:20260423T013858Z
CREATED:20091007T214447Z
UID:ATEvent-efa39745e4995133ad4a10e3ac2254c2
LAST-MODIFIED:20091007T215434Z
SUMMARY:Speciala Esperantovespero en EKG
DTSTART:20091106T190000Z
DTEND:20091106T220000Z
DESCRIPTION:Okaze de la 100-jara naskighdatreveno de prof. dro Ivo Lap
 enna
LOCATION:Medborgerhuset\, Danasvej 30B\, Frederiksberg
CONTACT:Torben Svendsen\, 3874 9764\, kulturgrupo@webspeed.dk
CLASS:PUBLIC
END:VEVENT
END:VCALENDAR
